BEGIN:VCALENDAR
VERSION:2.0
PRODID:-//Tukios.com/
BEGIN:VEVENT
UID:ee80f66b-1128-48c9-be58-b61984ce92b5@www.mundellfuneralhome.com
DTSTAMP:20260424T015157Z
DTSTART:20260426T180000Z
DTEND:20260426T200000Z
SUMMARY:Visitation
DESCRIPTION:
URL:https://www.mundellfuneralhome.com/tributes/donna-wallis
LOCATION:Mundell Funeral Home 79 West St North  Orillia ON L3V 5C1
GEO:44.6104536;-79.4219827
END:VEVENT
END:VCALENDAR